BEGIN:VCALENDAR
VERSION:2.0
X-WR-CALNAME: Upcoming shows
PRODID:GIGPRESS 2.0 WORDPRESS PLUGIN
CALSCALE:GREGORIAN
X-WR-TIMEZONE:Etc/GMT
METHOD:PUBLISH
BEGIN:VTIMEZONE
TZID:GMT
BEGIN:STANDARD
DTSTART:20071028T010000
TZOFFSETTO:+0000
TZOFFSETFROM:+0000
END:STANDARD
END:VTIMEZONE
BEGIN:VEVENT
SUMMARY:Feierabend mit Gott \, Kirche Tonndorf
DESCRIPTION:Anmerkungen: Pastorin Miriam Polnau\, Ensemble SchöneTöne All Ages
LOCATION:Kirche Tonndorf\, Hamburg-Tonndorf\, DE
UID:20260501T160000Z-255-music@daniel-horn.com
URL:https://www.susanne-horn.info/2025/11/15/01-mai-2026-feierabend-mit-gott/
DTSTART;VALUE=DATE-TIME;TZID=GMT:20260501T160000Z
DTEND;VALUE=DATE-TIME;TZID=GMT:20260501T160000Z
DTSTAMP:20260421T124916Z
END:VEVENT
BEGIN:VEVENT
SUMMARY:Consortmusik des 16. und 17. Jahrhunderts \, St. Secundus
DESCRIPTION:Anmerkungen: NorthConsort All Ages
LOCATION:St. Secundus\, Hennstedt/ Dithmarschen\, DE
UID:20260606T170000Z-254-music@daniel-horn.com
URL:https://www.susanne-horn.info/2025/11/15/06-juni-2026-consortmusik-des-16-und-17-jahrhunderts/
DTSTART;VALUE=DATE-TIME;TZID=GMT:20260606T170000Z
DTEND;VALUE=DATE-TIME;TZID=GMT:20260606T170000Z
DTSTAMP:20260421T124916Z
END:VEVENT
BEGIN:VEVENT
SUMMARY:for voice and viols \, St. Anschar
DESCRIPTION:Anmerkungen: Ulf Zastrau (Countertenor)\, arte siciliosa All Ages
LOCATION:St. Anschar\, Hamburg-Eppendorf\, DE
UID:20260725T140000Z-259-music@daniel-horn.com
URL:https://www.susanne-horn.info/2026/02/14/25-juli-2026-for-voice-and-viols/
DTSTART;VALUE=DATE-TIME;TZID=GMT:20260725T140000Z
DTEND;VALUE=DATE-TIME;TZID=GMT:20260725T140000Z
DTSTAMP:20260421T124916Z
END:VEVENT
BEGIN:VEVENT
SUMMARY:come again \, St.-Andreas-Kirche
DESCRIPTION:Kosten: 10\,-€. Anmerkungen: Ulf Zastrau (Countertenor)\, Susanne Horn (Violen da Gamba)\, Ulf Dressler (Lauten) All Ages
LOCATION:St.-Andreas-Kirche\, Brodersby\, DE
UID:20261010T150000Z-258-music@daniel-horn.com
URL:https://www.susanne-horn.info/2026/02/14/03-oktober-2026-come-again/
DTSTART;VALUE=DATE-TIME;TZID=GMT:20261010T150000Z
DTEND;VALUE=DATE-TIME;TZID=GMT:20261010T150000Z
DTSTAMP:20260421T124916Z
END:VEVENT
END:VCALENDAR